BEGIN:VCALENDAR
VERSION:2.0
PRODID:-//Pittwater Peninsula Netball Club - ECPv4.8.1//NONSGML v1.0//EN
CALSCALE:GREGORIAN
METHOD:PUBLISH
X-WR-CALNAME:Pittwater Peninsula Netball Club
X-ORIGINAL-URL:https://peninsulanetball.org.au
X-WR-CALDESC:Events for Pittwater Peninsula Netball Club
BEGIN:VEVENT
DTSTART;TZID=Australia/Sydney:20210208T160000
DTEND;TZID=Australia/Sydney:20210208T180000
DTSTAMP:20210226T141758
CREATED:20210119T014925Z
LAST-MODIFIED:20210122T232820Z
UID:3545-1612800000-1612807200@peninsulanetball.org.au
SUMMARY:U10 GRADING
DESCRIPTION:Avalon Beach Reserve Hard Courts \n
URL:https://peninsulanetball.org.au/event/u10-grading/
END:VEVENT
BEGIN:VEVENT
DTSTART;TZID=Australia/Sydney:20210209T160000
DTEND;TZID=Australia/Sydney:20210209T173000
DTSTAMP:20210226T141758
CREATED:20210119T031005Z
LAST-MODIFIED:20210122T233036Z
UID:3548-1612886400-1612891800@peninsulanetball.org.au
SUMMARY:U11 GRADING
DESCRIPTION:Avalon Beach Reserve Hard Courts \n
URL:https://peninsulanetball.org.au/event/u11-grading/
END:VEVENT
BEGIN:VEVENT
DTSTART;TZID=Australia/Sydney:20210209T174500
DTEND;TZID=Australia/Sydney:20210209T190000
DTSTAMP:20210226T141758
CREATED:20210119T031131Z
LAST-MODIFIED:20210122T233056Z
UID:3550-1612892700-1612897200@peninsulanetball.org.au
SUMMARY:U14 GRADING
DESCRIPTION:Avalon Beach Reserve Hard Courts \n
URL:https://peninsulanetball.org.au/event/u14-grading/
END:VEVENT
BEGIN:VEVENT
DTSTART;TZID=Australia/Sydney:20210210T163000
DTEND;TZID=Australia/Sydney:20210210T183000
DTSTAMP:20210226T141758
CREATED:20210119T031226Z
LAST-MODIFIED:20210122T233124Z
UID:3552-1612974600-1612981800@peninsulanetball.org.au
SUMMARY:U12 GRADING
DESCRIPTION:Avalon Beach Reserve Hard Courts \n
URL:https://peninsulanetball.org.au/event/u12-grading/
END:VEVENT
BEGIN:VEVENT
DTSTART;TZID=Australia/Sydney:20210211T170000
DTEND;TZID=Australia/Sydney:20210211T183000
DTSTAMP:20210226T141758
CREATED:20210119T031318Z
LAST-MODIFIED:20210122T233142Z
UID:3554-1613062800-1613068200@peninsulanetball.org.au
SUMMARY:U13 GRADING
DESCRIPTION:Avalon Beach Reserve Hard Courts \n
URL:https://peninsulanetball.org.au/event/u13-grading/
END:VEVENT
BEGIN:VEVENT
DTSTART;TZID=Australia/Sydney:20210212T163000
DTEND;TZID=Australia/Sydney:20210212T180000
DTSTAMP:20210226T141758
CREATED:20210121T100132Z
LAST-MODIFIED:20210125T054910Z
UID:3642-1613147400-1613152800@peninsulanetball.org.au
SUMMARY:U8 AND U9 TEAM FORMATION
DESCRIPTION:Avalon Beach Reserve Hard Courts \n
URL:https://peninsulanetball.org.au/event/u8-and-u9-team-formations/
END:VEVENT
BEGIN:VEVENT
DTSTART;TZID=Australia/Sydney:20210215T160000
DTEND;TZID=Australia/Sydney:20210215T180000
DTSTAMP:20210226T141758
CREATED:20210119T031417Z
LAST-MODIFIED:20210122T232701Z
UID:3556-1613404800-1613412000@peninsulanetball.org.au
SUMMARY:U10 GRADING
DESCRIPTION:Avalon Beach Reserve Hard Courts \n
URL:https://peninsulanetball.org.au/event/u8-and-9-team-formation/
END:VEVENT
BEGIN:VEVENT
DTSTART;TZID=Australia/Sydney:20210216T160000
DTEND;TZID=Australia/Sydney:20210216T173000
DTSTAMP:20210226T141758
CREATED:20210119T031649Z
LAST-MODIFIED:20210122T233230Z
UID:3560-1613491200-1613496600@peninsulanetball.org.au
SUMMARY:U11 GRADING
DESCRIPTION:Avalon Beach Reserve Hard Courts \n
URL:https://peninsulanetball.org.au/event/u11-grading-2/
END:VEVENT
BEGIN:VEVENT
DTSTART;TZID=Australia/Sydney:20210216T174500
DTEND;TZID=Australia/Sydney:20210216T174500
DTSTAMP:20210226T141758
CREATED:20210119T031734Z
LAST-MODIFIED:20210122T233604Z
UID:3562-1613497500-1613497500@peninsulanetball.org.au
SUMMARY:U15 GRADING
DESCRIPTION:Avalon Beach Reserve Hard Courts \n
URL:https://peninsulanetball.org.au/event/u15-grading/
END:VEVENT
BEGIN:VEVENT
DTSTART;TZID=Australia/Sydney:20210217T163000
DTEND;TZID=Australia/Sydney:20210217T183000
DTSTAMP:20210226T141758
CREATED:20210119T031832Z
LAST-MODIFIED:20210122T233249Z
UID:3564-1613579400-1613586600@peninsulanetball.org.au
SUMMARY:U12 GRADING
DESCRIPTION:Avalon Beach Reserve Hard Courts \n
URL:https://peninsulanetball.org.au/event/u12-grading-2/
END:VEVENT
BEGIN:VEVENT
DTSTART;TZID=Australia/Sydney:20210218T170000
DTEND;TZID=Australia/Sydney:20210218T183000
DTSTAMP:20210226T141758
CREATED:20210119T031915Z
LAST-MODIFIED:20210122T233321Z
UID:3566-1613667600-1613673000@peninsulanetball.org.au
SUMMARY:U13 GRADING
DESCRIPTION:Avalon Beach Reserve Hard Courts \n
URL:https://peninsulanetball.org.au/event/u13-grading-2/
END:VEVENT
BEGIN:VEVENT
DTSTART;TZID=Australia/Sydney:20210219T163000
DTEND;TZID=Australia/Sydney:20210219T180000
DTSTAMP:20210226T141758
CREATED:20210119T031955Z
LAST-MODIFIED:20210125T054233Z
UID:3568-1613752200-1613757600@peninsulanetball.org.au
SUMMARY:U8 AND U9 TEAM FORMATION
DESCRIPTION:Avalon Beach Reserve Hard Courts \n
URL:https://peninsulanetball.org.au/event/u8-and-9-team-formation-2/
END:VEVENT
BEGIN:VEVENT
DTSTART;TZID=Australia/Sydney:20210219T235500
DTEND;TZID=Australia/Sydney:20210219T235500
DTSTAMP:20210226T141758
CREATED:20210120T224153Z
LAST-MODIFIED:20210120T224153Z
UID:3624-1613778900-1613778900@peninsulanetball.org.au
SUMMARY:SENIOR REGISTRATIONS CLOSE
DESCRIPTION:Senior registrations close midnight 19 Feb. \n
URL:https://peninsulanetball.org.au/event/senior-registrations-close/
END:VEVENT
BEGIN:VEVENT
DTSTART;TZID=Australia/Sydney:20210222T160000
DTEND;TZID=Australia/Sydney:20210222T180000
DTSTAMP:20210226T141758
CREATED:20210119T033142Z
LAST-MODIFIED:20210122T233439Z
UID:3570-1614009600-1614016800@peninsulanetball.org.au
SUMMARY:U10 GRADING (IF REQUIRED)
DESCRIPTION:Avalon Beach Reserve Hard Courts \n
URL:https://peninsulanetball.org.au/event/u10-grading-if-required/
END:VEVENT
END:VCALENDAR